BEGIN:VCALENDAR
VERSION:2.0
PRODID:-//Foobar Corporation//NONSGML Foobar//EN
METHOD:REQUEST
BEGIN:VEVENT
UID:20260424T204500-2020217660-fuoriscenalibri.it
DTSTAMP:20260424T204500
DTSTART:20260424T204500
SUMMARY:Paolo Berizzi ad Asti
DESCRIPTION: Dettagli qui: https://www.fuoriscenalibri.it/eventi/paolo-berizzi-ad-asti/
END:VEVENT
END:VCALENDAR
