BEGIN:VCALENDAR
VERSION:2.0
PRODID:-//Foobar Corporation//NONSGML Foobar//EN
METHOD:REQUEST
BEGIN:VEVENT
UID:20240418T183000-1634081950-fuoriscenalibri.it
DTSTAMP:20240418T183000
DTSTART:20240418T183000
SUMMARY:Massimiliano Smeriglio a Roma
DESCRIPTION: Dettagli qui: https://www.fuoriscenalibri.it/eventi/massimiliano-smeriglio-a-roma-5/
END:VEVENT
END:VCALENDAR
