BEGIN:VCALENDAR
VERSION:2.0
PRODID:-//Foobar Corporation//NONSGML Foobar//EN
METHOD:REQUEST
BEGIN:VEVENT
UID:20260422T210000-1210768535-fuoriscenalibri.it
DTSTAMP:20260422T210000
DTSTART:20260422T210000
SUMMARY:Marta Serafini a Voghera (PV)
DESCRIPTION: Dettagli qui: https://www.fuoriscenalibri.it/eventi/marta-serafini-a-voghera-pv/
END:VEVENT
END:VCALENDAR
